BEGIN:VCALENDAR
VERSION:2.0
PRODID:-//wp-events-plugin.com//6.5.2//EN
BEGIN:VEVENT
UID:4@skgf.se
DTSTART:20240418T120000Z
DTEND:20240418T140000Z
DTSTAMP:20240416T062804Z
URL:https://skgf.se/events/forelasning/
SUMMARY:Föreläsning
DESCRIPTION:Liten text
ATTACH;FMTTYPE=image/jpeg:https://skgf.se/wp-content/uploads/2024/04/skgf1
 2.png
END:VEVENT
END:VCALENDAR