BEGIN:VCALENDAR
VERSION:2.0
PRODID:-//wp-events-plugin.com//6.5.2//EN
BEGIN:VEVENT
UID:7@skgf.se
DTSTART:20240525T090000Z
DTEND:20240525T120000Z
DTSTAMP:20240516T130736Z
URL:https://skgf.se/events/lilla-skaneslaget-bosjokloster-gk-25-5/
SUMMARY:Lilla Skåneslaget - Bosjökloster GK 25/5
DESCRIPTION:Välkommen till Lilla Skåneslaget för dig mellan 7-12 år!\n\
 nAnmäl dig här:\nhttps://mingolf.golf.se/Competition/4514080
END:VEVENT
END:VCALENDAR