BEGIN:VCALENDAR
VERSION:2.0
PRODID:-//wp-events-plugin.com//6.5.2//EN
BEGIN:VEVENT
UID:14@skgf.se
DTSTART:20240602T130000Z
DTEND:20240602T200000Z
DTSTAMP:20240520T114849Z
URL:https://skgf.se/events/nya-sydtouren-race-to-the-national-2-soderasens
 -gk/
SUMMARY:Nya Sydtouren - Race to The National #2 Söderåsens GK
DESCRIPTION:Välkommen till Nya Sydtouren - Race to The National by PING\n\
 nDetta är en singeltävling som spelas i en gemensam klass men med priser
  till de 4 bästa (om fullt startfält) i både brutto och netto! Tävling
 en är öppen för alla som är 22 år och uppåt!\n\nAlla deltävlingarna
  spelas över 18 hål medans finalen spelas över 36 hål på The National
  och dit tar sig de 15 bästa ifrån brutto och netto.\n\nOmgång #2 spela
 s på Söderåsens GK\n\nKlicka här för att anmäla dig!
ATTACH;FMTTYPE=image/jpeg:https://skgf.se/wp-content/uploads/2024/04/Nya-S
 ydtouren-2.0.png
END:VEVENT
END:VCALENDAR