BEGIN:VCALENDAR
VERSION:2.0
PRODID:-//wp-events-plugin.com//6.5.2//EN
BEGIN:VEVENT
UID:9@skgf.se
DTSTART:20240602T100000Z
DTEND:20240602T120000Z
DTSTAMP:20240520T103750Z
URL:https://skgf.se/events/qa-med-fanny-sunesson-och-carin-hjalmarsson/
SUMMARY:Q&A med Fanny Sunesson och Carin Hjalmarsson
DESCRIPTION:Välkommen till Dormy Open på Allerums GK den 2/6 \n\nQ&amp\;
 A med Fanny Sunesson\n\nKom och lyssna på en av världens mest meriterade
  caddies genom alla tider! Med spelare som\nSir Nick Faldo och Henrik Sten
 sson har Fanny en inblick i golfen som få andra har!\n\nAgenda\n\nVi trä
 ffas 10:00 på Allerums GK där ni får chansen att höra om Fannys alla u
 pplevelser från de största tävlingarna! Ni kommer även få chansen att
  ställa era egna frågor!\n\nSe våra svenska stjärnor!\nEfter Q&amp\;A 
 så kommer ni få chansen att gå ut på banan under finaldagen och titta 
 på våra svenska stjärnor tävla om titeln i Dormy Open som är en del a
 v Ladies European Tour!\n\nDet är helt gratis att vara med på denna unik
 a träff!\n\nKlicka här för att anmäla dig!
ATTACH;FMTTYPE=image/jpeg:https://skgf.se/wp-content/uploads/2024/05/Skarm
 avbild-2024-05-17-kl.-11.55.12.png
END:VEVENT
END:VCALENDAR