BEGIN:VCALENDAR
VERSION:2.0
PRODID:-//wp-events-plugin.com//6.5.2//EN
BEGIN:VEVENT
UID:13@skgf.se
DTSTART:20240602T120000Z
DTEND:20240602T180000Z
DTSTAMP:20240520T113747Z
URL:https://skgf.se/events/rookietouren-2-hinton-sofiedal-2-6/
SUMMARY:Rookietouren #2 Hinton - Sofiedal 2/6
DESCRIPTION:Välkommen till Rookie Touren #2 på Hinton - Sofiedal\n\nSpela
 s i tre åldersklasser med flickor och pojkar i samma klass där vi spelar
  slaggolf med hcp.\n\nDe 12 bästa i klass 2 samt 6 bästa i klass 3 utifr
 ån Order of Merit blir inbjudna till en final!\n\n 	Betalning sker i samb
 and med anmälan via Min Golf\n\nAlla frågor rörande starttider etc. tas
  med klubben.\n\nÅterbetalning sker automatiskt via avanmälan.\n\nVälko
 mna!\n\nKlicka här för att komma till anmälan!
ATTACH;FMTTYPE=image/jpeg:https://skgf.se/wp-content/uploads/2024/05/Skarm
 avbild-2024-05-20-kl.-10.27.47.png
END:VEVENT
END:VCALENDAR