BEGIN:VCALENDAR
VERSION:2.0
PRODID:-//wp-events-plugin.com//6.5.2//EN
BEGIN:VEVENT
UID:10@skgf.se
DTSTART:20240607T090000Z
DTEND:20240607T160000Z
DTSTAMP:20240520T104718Z
URL:https://skgf.se/events/scandinavian-mixed-junior-workshop-7-6/
SUMMARY:Scandinavian Mixed Junior Workshop 7/6
DESCRIPTION:Welcome to Scandinavian Mixed\n\nWe invite you to join the DP W
 orld Tours Careers in Golf programme at the Volvo Car Scandinavian Mixed 2
 024! The programme will showcase the plethora of careers available within 
 the golf industry!\n\n 	Bring careers to life workshop.\n 	Behind the scen
 es tour\n 	Player meet &amp\; greet\n\n\n 	09:00 - Arrival\n 	09:30 - Care
 ers in golf workshop\n 	12:30 - Lunch\n 	13:30 - Behind the Scenes Tour\n 
 	15:30 - Clinic with players\n 	16:00 - Finished\n\nThe presentation will 
 be completley in English with help from Stefan and Lucas if you need it!\n
 \nClick here to register!
ATTACH;FMTTYPE=image/jpeg:https://skgf.se/wp-content/uploads/2024/04/Bild2
 -1.png
END:VEVENT
END:VCALENDAR