BEGIN:VCALENDAR
VERSION:2.0
PRODID:-//wp-events-plugin.com//6.5.2//EN
BEGIN:VEVENT
UID:12@skgf.se
DTSTART;VALUE=DATE:20240618
DTEND;VALUE=DATE:20240619
DTSTAMP:20240520T112008Z
URL:https://skgf.se/events/slaget-om-skane-2-18-6/
SUMMARY:Slaget om Skåne #2 18/6
DESCRIPTION:Välkommen till omgång #2 av Slaget som Skåne som går av sta
 peln den 18/6!\n\nElit spelar på Hässlegårdens GK\n\nFuture spelare på
  Abbekås GK\n\nKlicka här för att anmäla dig till Elit!\n\nKlicka här
  för att anmäla dig till Future!
ATTACH;FMTTYPE=image/jpeg:https://skgf.se/wp-content/uploads/2024/04/Slage
 t-om-Skane-2024-0.4.png
END:VEVENT
END:VCALENDAR